BEGIN:VCALENDAR
VERSION:2.0
PRODID:-//MAARC - ECPv6.15.20//NONSGML v1.0//EN
CALSCALE:GREGORIAN
METHOD:PUBLISH
X-ORIGINAL-URL:https://maarc.org
X-WR-CALDESC:Events for MAARC
REFRESH-INTERVAL;VALUE=DURATION:PT1H
X-Robots-Tag:noindex
X-PUBLISHED-TTL:PT1H
BEGIN:VTIMEZONE
TZID:America/New_York
BEGIN:DAYLIGHT
TZOFFSETFROM:-0500
TZOFFSETTO:-0400
TZNAME:EDT
DTSTART:20250309T070000
END:DAYLIGHT
BEGIN:STANDARD
TZOFFSETFROM:-0400
TZOFFSETTO:-0500
TZNAME:EST
DTSTART:20251102T060000
END:STANDARD
BEGIN:DAYLIGHT
TZOFFSETFROM:-0500
TZOFFSETTO:-0400
TZNAME:EDT
DTSTART:20260308T070000
END:DAYLIGHT
BEGIN:STANDARD
TZOFFSETFROM:-0400
TZOFFSETTO:-0500
TZNAME:EST
DTSTART:20261101T060000
END:STANDARD
BEGIN:DAYLIGHT
TZOFFSETFROM:-0500
TZOFFSETTO:-0400
TZNAME:EDT
DTSTART:20270314T070000
END:DAYLIGHT
BEGIN:STANDARD
TZOFFSETFROM:-0400
TZOFFSETTO:-0500
TZNAME:EST
DTSTART:20271107T060000
END:STANDARD
END:VTIMEZONE
BEGIN:VEVENT
DTSTART;TZID=America/New_York:20260426T080000
DTEND;TZID=America/New_York:20260426T140000
DTSTAMP:20260420T031133
CREATED:20260217T161722Z
LAST-MODIFIED:20260217T161722Z
UID:10000052-1777190400-1777212000@maarc.org
SUMMARY:Odenton Spring Hamfest
DESCRIPTION:The Maryland Mobileers will hosts their Annual Hamfest\, where people interested in Amateur Radio gather together. There will be vendors and amateur radio operators selling radios and other ham accessories. Generally there are exhibits on display\, and people tailgating from their vehicles. Other items\, such as computers\, are frequently sold at this Hamfest. \n 
URL:https://maarc.org/event/odenton-spring-hamfest/
LOCATION:Odenton Volunteer Fire Company\, 1425 Annapolis Road (Rt. 175)\, Odenton\, MD\, 21113\, United States
END:VEVENT
END:VCALENDAR